BEGIN:VCALENDAR
VERSION:2.0
PRODID:-//IA : Illusion d&#039;Avenir - ECPv6.15.20//NONSGML v1.0//EN
CALSCALE:GREGORIAN
METHOD:PUBLISH
X-WR-CALNAME:IA : Illusion d&#039;Avenir
X-ORIGINAL-URL:https://illusionavenir.fr
X-WR-CALDESC:Évènements pour IA : Illusion d&#039;Avenir
REFRESH-INTERVAL;VALUE=DURATION:PT1H
X-Robots-Tag:noindex
X-PUBLISHED-TTL:PT1H
BEGIN:VTIMEZONE
TZID:Europe/Paris
BEGIN:DAYLIGHT
TZOFFSETFROM:+0100
TZOFFSETTO:+0200
TZNAME:CEST
DTSTART:20240331T010000
END:DAYLIGHT
BEGIN:STANDARD
TZOFFSETFROM:+0200
TZOFFSETTO:+0100
TZNAME:CET
DTSTART:20241027T010000
END:STANDARD
BEGIN:DAYLIGHT
TZOFFSETFROM:+0100
TZOFFSETTO:+0200
TZNAME:CEST
DTSTART:20250330T010000
END:DAYLIGHT
BEGIN:STANDARD
TZOFFSETFROM:+0200
TZOFFSETTO:+0100
TZNAME:CET
DTSTART:20251026T010000
END:STANDARD
BEGIN:DAYLIGHT
TZOFFSETFROM:+0100
TZOFFSETTO:+0200
TZNAME:CEST
DTSTART:20260329T010000
END:DAYLIGHT
BEGIN:STANDARD
TZOFFSETFROM:+0200
TZOFFSETTO:+0100
TZNAME:CET
DTSTART:20261025T010000
END:STANDARD
END:VTIMEZONE
BEGIN:VEVENT
DTSTART;TZID=Europe/Paris:20251116T100000
DTEND;TZID=Europe/Paris:20251116T173000
DTSTAMP:20260422T174027
CREATED:20250421T144247Z
LAST-MODIFIED:20251023T194831Z
UID:396-1763287200-1763314200@illusionavenir.fr
SUMMARY:Séance dédicaces au 12ème salon des écrivains
DESCRIPTION:Rencontrez-moi au 12ᵉ Salon des écrivains pour découvrir en avant-première le tome 1 de la trilogie « IA : Illusion d’avenir  » – « Les dangers de l’intelligence artificielle ». Une occasion d’échanger sur les coulisses de l’écriture\, les raisons de cet engagement\, de faire connaissance et de débattre.
URL:https://illusionavenir.fr/event/salon-cheniers/
CATEGORIES:Salon
ATTACH;FMTTYPE=image/png:https://illusionavenir.fr/wp-content/uploads/2025/04/imageSalon.png
END:VEVENT
BEGIN:VEVENT
DTSTART;TZID=Europe/Paris:20251115T130000
DTEND;TZID=Europe/Paris:20251115T220000
DTSTAMP:20260422T174027
CREATED:20251023T192935Z
LAST-MODIFIED:20251023T202128Z
UID:775-1763211600-1763244000@illusionavenir.fr
SUMMARY:Séance dédicace à la 4ème édition de l’Agora des Livres le 15 novembre de 13h à 22h
DESCRIPTION:Emmanuelle Darles sera présente à la 4ème édition de l’Agora des Livres organisée par le média « La Vérité Libère »
URL:https://illusionavenir.fr/event/4eme-edition-de-lagora-des-livres/
LOCATION:14 rue de Patay 75013 Paris\, 14 rue de Patay\, Paris\, 75013\, France
ATTACH;FMTTYPE=image/jpeg:https://illusionavenir.fr/wp-content/uploads/2025/10/Affiche-globale_2025-10-16.jpg
END:VEVENT
BEGIN:VEVENT
DTSTART;TZID=Europe/Paris:20251114T170000
DTEND;TZID=Europe/Paris:20251114T190000
DTSTAMP:20260422T174027
CREATED:20251023T193752Z
LAST-MODIFIED:20251023T202147Z
UID:781-1763139600-1763146800@illusionavenir.fr
SUMMARY:Séance dédicace à la Librairie Française le 14 novembre de 17h à 19h
DESCRIPTION:Emmanuelle Darles vous donne rendez-vous le jeudi 14 novembre\,de 17h à 19h\, à la Librairie Française (5 rue Auguste-Bartholdi\, Paris 15ᵉ)pour une séance de dédicace de son livre IA : Illusion d’avenir.
URL:https://illusionavenir.fr/event/seance-dedicace-a-la-librairie-francaise-le-14-novembre-de-17h-a-19h/
LOCATION:5 rue Auguste-Bartholdi\, 75015 Paris\, 5 rue Auguste-Bartholdi\, Paris\, 75015\, France
ATTACH;FMTTYPE=image/webp:https://mlzwedwevwgy.i.optimole.com/w:auto/h:auto/q:auto/id:a34d698b6213c54f6b4ef0d4cc4e27f6/https://illusionavenir.fr/imageSalon.webp
END:VEVENT
BEGIN:VEVENT
DTSTART;TZID=Europe/Paris:20251109T120000
DTEND;TZID=Europe/Paris:20251109T133000
DTSTAMP:20260422T174027
CREATED:20251023T194731Z
LAST-MODIFIED:20251023T202214Z
UID:785-1762689600-1762695000@illusionavenir.fr
SUMMARY:Entretien avec Dominique Tassot sur Radio Courtoisie le 9 novembre de 12h à 13h30
DESCRIPTION:Emmanuelle Darles sera l’invitée de Dominique Tassot sur Radio Courtoisie le 9 novembre\, de 12h à 13h30\, dans le cadre du Libre Journal de Lumière de l’Espérance. \n\n\n\n\n\n\n\nPour suivre en direct cette interview : https://www.youtube.com/@Radio_Courtoisie_
URL:https://illusionavenir.fr/event/entretien-avec-dominque-tassot-sur-radio-courtoisie/
ATTACH;FMTTYPE=image/png:https://illusionavenir.fr/wp-content/uploads/2025/10/Capture-decran-2025-10-23-a-20.15.37.png
END:VEVENT
BEGIN:VEVENT
DTSTART;TZID=Europe/Paris:20251031T160000
DTEND;TZID=Europe/Paris:20251031T170000
DTSTAMP:20260422T174027
CREATED:20251023T195845Z
LAST-MODIFIED:20251023T202301Z
UID:790-1761926400-1761930000@illusionavenir.fr
SUMMARY:Entretien avec Nexus Magazine le 31 octobre de 16h à 17h
DESCRIPTION:Emmanuelle Darles sera l’invitée de Nexus Magazine pour un entretien consacré au tome 1 de son ouvrage IA : Illusion d’Avenir.Cette rencontre permettra d’approfondir les réflexions développées dans son livre\, qui interroge la place grandissante de l’intelligence artificielle dans nos sociétés contemporaines. \n\n\n\nÀ travers un regard à la fois scientifique\, philosophique et éthique\, Emmanuelle Darles y explore les dérives d’un monde de plus en plus gouverné par la donnée\, l’algorithme et la logique de contrôle.L’entretien abordera également les enjeux de responsabilité\, de discernement et de liberté humaine face à l’emprise des technologies dites intelligentes. \n\n\n\nUn échange dense et accessible\, dans l’esprit de Nexus Magazine\, qui mettra en lumière les questions essentielles de notre temps : que signifie encore penser\, décider et créer à l’ère de l’intelligence artificielle ?
URL:https://illusionavenir.fr/event/entretien-avec-nexus-magazine-le-31-octobre-de-16h-a-17h/
ATTACH;FMTTYPE=image/png:https://illusionavenir.fr/wp-content/uploads/2025/10/Nexus.png
END:VEVENT
BEGIN:VEVENT
DTSTART;TZID=Europe/Paris:20251030T200000
DTEND;TZID=Europe/Paris:20251030T220000
DTSTAMP:20260422T174027
CREATED:20251023T185429Z
LAST-MODIFIED:20251023T185816Z
UID:769-1761854400-1761861600@illusionavenir.fr
SUMMARY:Entretien pour l'émission "Libérez L'info"
DESCRIPTION:Emmanuelle Darles sera l’invitée de l’émission « Libérez l’info » le 30 octobre. \n\n\n\nLIBÉREZ L’INFO #43 Avec Emmanuelle Darles \, Docteure en informatique et auteure du livre « IA : Illusion d’avenir » – 30.10.25 \n\n\n\nAvec Amélie Paul\, Salim Laïbi\, Chloé Frammery\, Jean-Jacques Crèvecoeur. \n\n\n\nC’est jeudi 30 octobre à 20h (Europe) & 14h (Québec) !  \n\n\n\nJeudi 30 octobre 2025\, nous aurons la joie de recevoir le Emmanuelle Darles EN DIRECT pour cette 43ème émission.  \n\n\n\nEmmanuelle Darles est docteure en informatique\, enseignante-chercheuse\, et engagée depuis plusieurs années dans une démarche critique sur les usages sociaux\, éducatifs et politiques de l’intelligence artificielle.Elle a été auditionnée le 8 avril 2022 au Sénat\, dans le cadre de la Commission d’enquête sur les effets secondaires des « vaccins » Covid.Elle est également experte auprès de la Commission européenne\, où elle évalue des projets dans les domaines du numérique\, de la culture et de la recherche. \n\n\n\n● Pour commander le dernier livre d’Emmanuelle Darles « l’IA : Illusion d’avenir » :https://www.editionsmarcopietteur.com/410-ia-une-illusion… \n\n\n\n● Toutes les infos sur les 3 tomes du livre « IA : Illusion d’avenir »https://illusionavenir.fr/ \n\n\n\n\n\n\n\n LE LIVE SERA À VOIR ICI :(Jeudi 30 octobre à 20h)Sur Crowdbunker : • https://crowdbunker.com/v/XSCehNdZ• https://crowdbunker.com/@jean-jacques-crevecoeurSur Odysee :• https://odysee.com/@Chloe_F:b/LLI43:7• https://odysee.com/@ameliepaul:8/• https://odysee.com/@LeLibrePenseur.org:2/• https://odysee.com/@Jean-Jacques-Crevecoeur:f/Sur Twitter :• https://x.com/Amelie_Paul• https://x.com/LLP_Le_Vrai
URL:https://illusionavenir.fr/event/entretien-pour-lemission-liberez-linfo/
ATTACH;FMTTYPE=image/jpeg:https://illusionavenir.fr/wp-content/uploads/2025/10/558956832_10163229698182403_443967706000919567_n-2.jpg
END:VEVENT
BEGIN:VEVENT
DTSTART;TZID=Europe/Paris:20251025T180000
DTEND;TZID=Europe/Paris:20251025T223000
DTSTAMP:20260422T174027
CREATED:20250808T164405Z
LAST-MODIFIED:20250808T172424Z
UID:706-1761415200-1761431400@illusionavenir.fr
SUMMARY:Conférence & Dédicaces le samedi 25 octobre à Tours à partir de 18h
DESCRIPTION:Conférence organisée par l’association « Changer » \n\n\n\nL’IA : Une illusion d’Avenir ? \n\n\n\nL’intelligence artificielle est-elle réellement un progrès pour l’humanité ? \n\n\n\nOu bien l’un des plus grands pièges technologiques de notre époque ? \n\n\n\nDans cette conférence\, Emmanuelle Darles\, docteure en informatique et lanceuse d’alerte\, dévoile les coulisses d’une révolution numérique qui avance masquée. \n\n\n\nÀ travers une analyse claire\, accessible et documentée\, elle démonte les discours officiels sur l’IA\, pointe les risques majeurs pour nos libertés\, notre éducation\, notre santé et notre avenir… et révèle comment l’IA sert aujourd’hui un projet de société profondément inhumain\, marchand et technocratique. \n\n\n\nAu programme : \n\n\n\n• Les promesses et les mirages de l’intelligence artificielle \n\n\n\n• Une machine sans conscience\, pilotée par des intérêts industriels \n\n\n\n• Éducation\, emploi\, santé : vers une société sous algorithmes ? \n\n\n\n• Comment l’IA amplifie le contrôle social et la déshumanisation \n\n\n\n• Et surtout : que faire ? comment résister ? comment agir ? \n\n\n\nCette conférence est un appel à la lucidité et à l’action. \n\n\n\nUn moment fort pour reprendre en main notre avenir… pendant qu’il en est encore temps.
URL:https://illusionavenir.fr/event/conference-dedicace-le-samedi-25-octobre-a-tours-a-partir-de-18h/
LOCATION:11 rue des Bourdaisières – 37210 – Rochecorbon\, rue des Bourdaisières\, Rochecorbon\, 37210\, France
ATTACH;FMTTYPE=image/png:https://illusionavenir.fr/wp-content/uploads/2025/08/Copie-de-Conference-IA_Tours-1.png
END:VEVENT
BEGIN:VEVENT
DTSTART;TZID=Europe/Paris:20251005T100000
DTEND;TZID=Europe/Paris:20251005T180000
DTSTAMP:20260422T174027
CREATED:20250425T204105Z
LAST-MODIFIED:20250808T172321Z
UID:622-1759658400-1759687200@illusionavenir.fr
SUMMARY:Séance dédicaces au salon du livre « Des mots pour apaiser nos maux »
DESCRIPTION:Je suis heureuse de vous annoncer ma participation au Salon du Livre « Des mots pour apaiser nos maux ».Je vous donne rendez-vous pour une séance de dédicaces dédiée à l’échange\, à la découverte et au plaisir de partager autour de l’écriture. \n\n\n\nVenez me rencontrer\, découvrir mon univers et échanger librement autour de mon livre « IA : Illusion d’Avenir. Tome 1 : Les dangers de l’intelligence de l’artificielle.Que vous soyez curieux\, passionné de lecture ou simplement de passage\, vous êtes les bienvenus ! \n\n\n\nAu plaisir de vous y retrouver.
URL:https://illusionavenir.fr/event/seance-dedicaces-au-salon-du-livre-spaver22/
LOCATION:salle des fêtes de Le Quillio\, Le Quillio\, 22460\, France
CATEGORIES:Salon
ATTACH;FMTTYPE=image/jpeg:https://illusionavenir.fr/wp-content/uploads/2025/04/affiche.jpg
END:VEVENT
BEGIN:VEVENT
DTSTART;TZID=Europe/Paris:20251001T190000
DTEND;TZID=Europe/Paris:20251001T230000
DTSTAMP:20260422T174027
CREATED:20250506T154704Z
LAST-MODIFIED:20250808T172541Z
UID:641-1759345200-1759359600@illusionavenir.fr
SUMMARY:Conférence & Dédicaces au célèbre Musée Paccard à Annecy le 1er octobre à partir de 19h
DESCRIPTION:J’ai le plaisir de vous annoncer ma prochaine conférence qui se tiendra le mardi 1er octobre au célèbre Musée Paccard\, dans le cadre du cycle des Café-Philo. Cette rencontre sera l’occasion de présenter et de débattre autour de mon ouvrage « IA : Illusion d’Avenir – Tome 1 : Les dangers de l’intelligence artificielle« . \n\n\n\nDans un monde fasciné par les promesses de la technologie\, ce livre propose un regard critique et documenté sur les dérives actuelles de l’intelligence artificielle : biais algorithmiques\, surveillance\, délégation de responsabilité\, manipulation cognitive\, désinformation automatisée\, et bien plus encore. \n\n\n\nUne séance de dédicace suivra la conférence\, avec la possibilité d’échanger de manière plus personnelle autour des thématiques abordées dans le livre. \n\n\n\n📍 Musée Paccard – 1er octobre à partir de 19hEntrée libre dans la limite des places disponibles
URL:https://illusionavenir.fr/event/conference-au-musee-paccard/
LOCATION:Musée Paccard\, 215 route de Piron\, Sevrier\, 74320\, France
ATTACH;FMTTYPE=image/jpeg:https://illusionavenir.fr/wp-content/uploads/2025/05/musee.jpg
END:VEVENT
BEGIN:VEVENT
DTSTART;TZID=Europe/Paris:20250925T200000
DTEND;TZID=Europe/Paris:20250925T220000
DTSTAMP:20260422T174027
CREATED:20250808T163317Z
LAST-MODIFIED:20250808T172636Z
UID:699-1758830400-1758837600@illusionavenir.fr
SUMMARY:Conférence & Dédicaces à Poitiers le 25 septembre à 20h
DESCRIPTION:Conférence organisée par le collectif PVL-86 \n\n\n\nL’IA : Une illusion d’Avenir ? \n\n\n\nDans cette conférence\, Emmanuelle Darles\, docteure en informatique et lanceuse d’alerte\, dévoile les coulisses d’une révolution numérique qui avance masquée. \n\n\n\nÀ travers une analyse claire\, accessible et documentée\, elle démonte les discours officiels sur l’IA\, pointe les risques majeurs pour nos libertés\, notre éducation\, notre santé et notre avenir… et révèle comment l’IA sert aujourd’hui un projet de société profondément inhumain\, marchand et technocratique. \n\n\n\nAu programme : \n\n\n\n• Les promesses et les mirages de l’intelligence artificielle \n\n\n\n• Une machine sans conscience\, pilotée par des intérêts industriels \n\n\n\n• Éducation\, emploi\, santé : vers une société sous algorithmes ? \n\n\n\n• Comment l’IA amplifie le contrôle social et la déshumanisation \n\n\n\n• Et surtout : que faire ? comment résister ? comment agir ? \n\n\n\nCette conférence est un appel à la lucidité et à l’action. \n\n\n\nUn moment fort pour reprendre en main notre avenir… pendant qu’il en est encore temps. \n\n\n\nEntrée libre. Réservation : collectif-pvl86@protonmail.com
URL:https://illusionavenir.fr/event/conference-dedicace-a-poitiers-le-25-septembre-a-20h/
LOCATION:26 voie Malraux 86000 Poitiers\, andré Malraux\, Poitiers\, 86000\, France
ATTACH;FMTTYPE=image/png:https://illusionavenir.fr/wp-content/uploads/2025/08/Conference-IA_POITIERS.png
END:VEVENT
END:VCALENDAR